BEGIN:VCALENDAR
VERSION:2.0
PRODID:-//hacksw/handcal//NONSGML v1.0//EN
BEGIN:VEVENT
SUMMARY:Fin des cours - Bonnes Vacances
UID:5ca501c6-8275-4daa-822d-b173ec8ec133
DTSTART:20260618T220000Z
DTEND:20260619T220000Z
LOCATION:Localisation   
CATEGORIES:Sportif
STATUS:
DESCRIPTION:<p>Adhesion pour la saison 2026/2027 possible des
 juin</p>
 
 <p>Passez de bonnes Vancances et rendez-vous a la
 rentree</p>
URL;VALUE=URI:https://jc-sommierois.sportsregions.fr/evenements/2026/06/19/fin-des-cours-bonnes-vacances-2442791
END:VEVENT
END:VCALENDAR
