BEGIN:VCALENDAR
VERSION:2.0
PRODID:-//hacksw/handcal//NONSGML v1.0//EN
BEGIN:VEVENT
SUMMARY:Remise de Grades et Fete de fin de saison
UID:a1bac265-316f-45b6-b003-e85704af29e7
DTSTART:20260621T083000Z
DTEND:20260621T130000Z
LOCATION:Localisation parc des aubrys  Aubais
CATEGORIES:Manifestation
STATUS:
DESCRIPTION:<p><strong>La remise des ceintures et la fete de fin
 d'annee auront lieu le dimanche 21 juin pour les 2 clubs de Sylvain
 (Aubais et Sommieres)</strong></p>
 
 <p>Lieu: Parc des Aubrys  a
 Aubais - route d'aigues-vives (ou foyer d'Aubais s'il
 pleut)</p>
 
 <p>entree cote parc des Aubrys, le parking est en
 contrebas</p>
 
 <p><strong>11h:   debut de la remise des ceintures
 aux judokas des clubs <em>(donc arrivez avant
 svp)</em></strong></p>
 
 <p>la remise se fait en
 kimono.</p>
 
 <p><strong>12h00: Aperitif offert par les clubs -<span
 style="color:#2980b9;">apporter votre eco-cup
 svp</span></strong></p>
 
 <p><b>13h00: pour ceux qui le souhaitent,
 picnic en commun </b></p>
 
 <p><span style="color:#e74c3c;"><em>Afin
 que Sylvain puisse preparer les ceintures, merci de confirmer la
 presence du <u>judoka</u> ci-dessous</em></span></p>
URL;VALUE=URI:https://jc-sommierois.sportsregions.fr/evenements/2026/06/21/remise-de-grades-et-fete-de-fin-de-saison-2442796
END:VEVENT
END:VCALENDAR
